Package: CytoML Version: 2.19.1 Command: /home/rapidbuild/bbs-3.21-bioc-rapid/R/bin/R CMD build --keep-empty-dirs --no-resave-data CytoML StartedAt: 2025-02-05 06:41:42 -0500 (Wed, 05 Feb 2025) EndedAt: 2025-02-05 06:43:07 -0500 (Wed, 05 Feb 2025) EllapsedTime: 85.7 seconds RetCode: 0 Status: OK PackageFile: CytoML_2.19.1.tar.gz PackageFileSize: 8.054 MiB