Package: CompoundDb Version: 1.11.2 Command: /home/rapidbuild/bbs-3.21-bioc-rapid/R/bin/R CMD check --install=check:CompoundDb.install-out.txt --library=/home/rapidbuild/bbs-3.21-bioc-rapid/R/site-library --timings CompoundDb_1.11.2.tar.gz StartedAt: 2025-02-04 14:06:18 -0500 (Tue, 04 Feb 2025) EndedAt: 2025-02-04 14:08:30 -0500 (Tue, 04 Feb 2025) EllapsedTime: 131.9 seconds RetCode: 0 Status: OK CheckDir: CompoundDb.Rcheck Warnings: 0