Package: Category Version: 2.73.0 Command: /home/rapidbuild/bbs-3.21-bioc-rapid/R/bin/R CMD check --install=check:Category.install-out.txt --library=/home/rapidbuild/bbs-3.21-bioc-rapid/R/site-library --timings Category_2.73.0.tar.gz StartedAt: 2025-02-04 14:03:25 -0500 (Tue, 04 Feb 2025) EndedAt: 2025-02-04 14:06:59 -0500 (Tue, 04 Feb 2025) EllapsedTime: 214.3 seconds RetCode: 0 Status: OK CheckDir: Category.Rcheck Warnings: 0