Package: Category Version: 2.73.0 Command: /home/rapidbuild/bbs-3.21-bioc-rapid/R/bin/R CMD build --keep-empty-dirs --no-resave-data Category StartedAt: 2025-02-04 12:37:03 -0500 (Tue, 04 Feb 2025) EndedAt: 2025-02-04 12:38:14 -0500 (Tue, 04 Feb 2025) EllapsedTime: 70.9 seconds RetCode: 0 Status: OK PackageFile: Category_2.73.0.tar.gz PackageFileSize: 873.8 KiB