Package: BiocGenerics Version: 0.53.6 Command: /home/rapidbuild/bbs-3.21-bioc-rapid/R/bin/R CMD check --install=check:BiocGenerics.install-out.txt --library=/home/rapidbuild/bbs-3.21-bioc-rapid/R/site-library --timings BiocGenerics_0.53.6.tar.gz StartedAt: 2025-02-03 13:50:31 -0500 (Mon, 03 Feb 2025) EndedAt: 2025-02-03 13:51:09 -0500 (Mon, 03 Feb 2025) EllapsedTime: 37.6 seconds RetCode: 0 Status: WARNINGS CheckDir: BiocGenerics.Rcheck Warnings: 1