Package: BiocGenerics Version: 0.53.6 Maintainer: Hervé Pagès MaintainerEmail: hpages.on.github at gmail.com git_url: https://git.bioconductor.org/packages/BiocGenerics git_branch: devel git_last_commit: 594119a git_last_commit_date: 2025-02-06 19:02:19 -0500 (Thu, 06 Feb 2025)