Package: BSgenomeForge Version: 1.7.0 Command: /home/rapidbuild/bbs-3.21-bioc-rapid/R/bin/R CMD INSTALL BSgenomeForge StartedAt: 2025-02-09 06:23:10 -0500 (Sun, 09 Feb 2025) EndedAt: 2025-02-09 06:23:38 -0500 (Sun, 09 Feb 2025) EllapsedTime: 27.4 seconds RetCode: 0 Status: OK