Package: BSgenomeForge Version: 1.7.0 Command: /home/rapidbuild/bbs-3.21-bioc-rapid/R/bin/R CMD check --install=check:BSgenomeForge.install-out.txt --library=/home/rapidbuild/bbs-3.21-bioc-rapid/R/site-library --timings BSgenomeForge_1.7.0.tar.gz StartedAt: 2025-02-12 00:52:55 -0500 (Wed, 12 Feb 2025) EndedAt: 2025-02-12 00:58:06 -0500 (Wed, 12 Feb 2025) EllapsedTime: 310.9 seconds RetCode: 0 Status: OK CheckDir: BSgenomeForge.Rcheck Warnings: 0