Package: BSgenomeForge Version: 1.7.0 Command: /home/rapidbuild/bbs-3.21-bioc-rapid/R/bin/R CMD build --keep-empty-dirs --no-resave-data BSgenomeForge StartedAt: 2025-02-09 06:38:11 -0500 (Sun, 09 Feb 2025) EndedAt: 2025-02-09 06:39:20 -0500 (Sun, 09 Feb 2025) EllapsedTime: 68.6 seconds RetCode: 0 Status: OK PackageFile: BSgenomeForge_1.7.0.tar.gz PackageFileSize: 694 KiB