Package: treeio Version: 1.35.0 Command: /home/rapidbuild/bbs-3.22-bioc-rapid/R/bin/R CMD build --keep-empty-dirs --no-resave-data treeio StartedAt: 2025-10-30 13:09:16 -0400 (Thu, 30 Oct 2025) EndedAt: 2025-10-30 13:09:23 -0400 (Thu, 30 Oct 2025) EllapsedTime: 6.9 seconds RetCode: 0 Status: OK PackageFile: treeio_1.35.0.tar.gz PackageFileSize: 678.7 KiB