Package: treeio Version: 1.35.0 Maintainer: Guangchuang Yu MaintainerEmail: guangchuangyu at gmail.com git_url: https://git.bioconductor.org/packages/treeio git_branch: devel git_last_commit: 3b17027 git_last_commit_date: 2025-10-29 10:36:08 -0400 (Wed, 29 Oct 2025)