Package: scuttle Version: 1.21.0 Command: /home/rapidbuild/bbs-3.22-bioc-rapid/R/bin/R CMD INSTALL scuttle StartedAt: 2025-10-30 12:17:23 -0400 (Thu, 30 Oct 2025) EndedAt: 2025-10-30 12:18:18 -0400 (Thu, 30 Oct 2025) EllapsedTime: 55.1 seconds RetCode: 0 Status: OK