Package: scuttle Version: 1.21.0 Command: /home/rapidbuild/bbs-3.22-bioc-rapid/R/bin/R CMD build --keep-empty-dirs --no-resave-data scuttle StartedAt: 2025-10-30 13:04:25 -0400 (Thu, 30 Oct 2025) EndedAt: 2025-10-30 13:05:27 -0400 (Thu, 30 Oct 2025) EllapsedTime: 62.8 seconds RetCode: 1 Status: ERROR PackageFile: None PackageFileSize: NA