Package: scran Version: 1.39.0 Maintainer: Aaron Lun MaintainerEmail: infinite.monkeys.with.keyboards at gmail.com git_url: https://git.bioconductor.org/packages/scran git_branch: devel git_last_commit: 5b4b8a1 git_last_commit_date: 2025-10-29 10:31:34 -0400 (Wed, 29 Oct 2025)