Package: preprocessCore Version: 1.73.0 Command: /home/rapidbuild/bbs-3.22-bioc-rapid/R/bin/R CMD build --keep-empty-dirs --no-resave-data preprocessCore StartedAt: 2025-10-30 12:54:23 -0400 (Thu, 30 Oct 2025) EndedAt: 2025-10-30 12:54:24 -0400 (Thu, 30 Oct 2025) EllapsedTime: 1.0 seconds RetCode: 0 Status: OK PackageFile: preprocessCore_1.73.0.tar.gz PackageFileSize: 124.8 KiB