Package: preprocessCore Version: 1.73.0 Maintainer: Ben Bolstad MaintainerEmail: bmb at bmbolstad.com git_url: https://git.bioconductor.org/packages/preprocessCore git_branch: devel git_last_commit: bb678ea git_last_commit_date: 2025-10-29 09:42:06 -0400 (Wed, 29 Oct 2025)