Package: pcaMethods Version: 2.3.0 Command: /home/rapidbuild/bbs-3.22-bioc-rapid/R/bin/R CMD build --keep-empty-dirs --no-resave-data pcaMethods StartedAt: 2025-10-30 12:53:49 -0400 (Thu, 30 Oct 2025) EndedAt: 2025-10-30 12:55:00 -0400 (Thu, 30 Oct 2025) EllapsedTime: 70.9 seconds RetCode: 0 Status: OK PackageFile: pcaMethods_2.3.0.tar.gz PackageFileSize: 1018 KiB