Package: ggtree Version: 4.1.1 Command: /home/rapidbuild/bbs-3.22-bioc-rapid/R/bin/R CMD INSTALL ggtree StartedAt: 2025-10-30 12:20:26 -0400 (Thu, 30 Oct 2025) EndedAt: 2025-10-30 12:20:34 -0400 (Thu, 30 Oct 2025) EllapsedTime: 8.2 seconds RetCode: 0 Status: OK