Package: ggtree Version: 4.1.1 Command: /home/rapidbuild/bbs-3.22-bioc-rapid/R/bin/R CMD build --keep-empty-dirs --no-resave-data ggtree StartedAt: 2025-10-30 12:43:04 -0400 (Thu, 30 Oct 2025) EndedAt: 2025-10-30 12:43:14 -0400 (Thu, 30 Oct 2025) EllapsedTime: 10.0 seconds RetCode: 0 Status: OK PackageFile: ggtree_4.1.1.tar.gz PackageFileSize: 356 KiB