Package: flowWorkspace Version: 4.23.0 Maintainer: Greg Finak , Mike Jiang MaintainerEmail: mike at ozette.com git_url: https://git.bioconductor.org/packages/flowWorkspace git_branch: devel git_last_commit: 824996d git_last_commit_date: 2025-10-29 10:07:43 -0400 (Wed, 29 Oct 2025)