Package: flowCore Version: 2.23.0 Maintainer: Mike Jiang MaintainerEmail: mike at ozette.com git_url: https://git.bioconductor.org/packages/flowCore git_branch: devel git_last_commit: 215e624 git_last_commit_date: 2025-10-29 09:58:38 -0400 (Wed, 29 Oct 2025)