Package: clusterProfiler Version: 4.19.0 Maintainer: Guangchuang Yu MaintainerEmail: guangchuangyu at gmail.com git_url: https://git.bioconductor.org/packages/clusterProfiler git_branch: devel git_last_commit: 7340b30 git_last_commit_date: 2025-10-29 10:06:54 -0400 (Wed, 29 Oct 2025)