Package: basilisk.utils Version: 1.23.0 Command: /home/rapidbuild/bbs-3.22-bioc-rapid/R/bin/R CMD build --keep-empty-dirs --no-resave-data basilisk.utils StartedAt: 2025-10-30 12:26:27 -0400 (Thu, 30 Oct 2025) EndedAt: 2025-10-30 12:26:31 -0400 (Thu, 30 Oct 2025) EllapsedTime: 4.0 seconds RetCode: 0 Status: OK PackageFile: basilisk.utils_1.23.0.tar.gz PackageFileSize: 229.1 KiB