############################################################################## ############################################################################## ### ### Running command: ### ### /home/rapidbuild/bbs-3.22-bioc-rapid/R/bin/R CMD build --keep-empty-dirs --no-resave-data VariantAnnotation ### ############################################################################## ############################################################################## * checking for file ‘VariantAnnotation/DESCRIPTION’ ... OK * preparing ‘VariantAnnotation’: * checking DESCRIPTION meta-information ... OK * cleaning src * installing the package to build vignettes ----------------------------------- ERROR: dependencies ‘rtracklayer’, ‘BSgenome’, ‘GenomicFeatures’ are not available for package ‘VariantAnnotation’ Perhaps try a variation of: install.packages(c('rtracklayer', 'BSgenome', 'GenomicFeatures')) * removing ‘/tmp/Rtmp4qLlWj/Rinst2360671ad69cf8/VariantAnnotation’ ----------------------------------- ERROR: package installation failed