Package: SparseArray Version: 1.11.0 Maintainer: Hervé Pagès MaintainerEmail: hpages.on.github at gmail.com git_url: https://git.bioconductor.org/packages/SparseArray git_branch: devel git_last_commit: 3a9f3f1 git_last_commit_date: 2025-10-29 14:43:33 -0400 (Wed, 29 Oct 2025)