Package: MsBackendSql Version: 1.11.0 Command: /home/rapidbuild/bbs-3.22-bioc-rapid/R/bin/R CMD INSTALL MsBackendSql StartedAt: 2025-10-30 12:18:55 -0400 (Thu, 30 Oct 2025) EndedAt: 2025-10-30 12:19:05 -0400 (Thu, 30 Oct 2025) EllapsedTime: 10.0 seconds RetCode: 0 Status: OK