Package: MsBackendSql Version: 1.11.0 Command: /home/rapidbuild/bbs-3.22-bioc-rapid/R/bin/R CMD build --keep-empty-dirs --no-resave-data MsBackendSql StartedAt: 2025-10-30 12:49:38 -0400 (Thu, 30 Oct 2025) EndedAt: 2025-10-30 12:50:23 -0400 (Thu, 30 Oct 2025) EllapsedTime: 44.9 seconds RetCode: 0 Status: OK PackageFile: MsBackendSql_1.11.0.tar.gz PackageFileSize: 346.6 KiB