Package: MetaboCoreUtils Version: 1.19.0 Command: /home/rapidbuild/bbs-3.22-bioc-rapid/R/bin/R CMD INSTALL MetaboCoreUtils StartedAt: 2025-10-30 12:18:15 -0400 (Thu, 30 Oct 2025) EndedAt: 2025-10-30 12:18:20 -0400 (Thu, 30 Oct 2025) EllapsedTime: 4.2 seconds RetCode: 0 Status: OK