Package: MetaboCoreUtils Version: 1.19.0 Maintainer: Johannes Rainer MaintainerEmail: Johannes.Rainer at eurac.edu git_url: https://git.bioconductor.org/packages/MetaboCoreUtils git_branch: devel git_last_commit: 540e625 git_last_commit_date: 2025-10-29 11:06:05 -0400 (Wed, 29 Oct 2025)