Package: ConsensusClusterPlus Version: 1.75.0 Command: /home/rapidbuild/bbs-3.22-bioc-rapid/R/bin/R CMD INSTALL ConsensusClusterPlus StartedAt: 2025-10-30 12:11:11 -0400 (Thu, 30 Oct 2025) EndedAt: 2025-10-30 12:11:13 -0400 (Thu, 30 Oct 2025) EllapsedTime: 2.2 seconds RetCode: 0 Status: OK