Package: ConsensusClusterPlus Version: 1.75.0 Command: /home/rapidbuild/bbs-3.22-bioc-rapid/R/bin/R CMD build --keep-empty-dirs --no-resave-data ConsensusClusterPlus StartedAt: 2025-10-30 12:30:19 -0400 (Thu, 30 Oct 2025) EndedAt: 2025-10-30 12:30:27 -0400 (Thu, 30 Oct 2025) EllapsedTime: 8.0 seconds RetCode: 0 Status: OK PackageFile: ConsensusClusterPlus_1.75.0.tar.gz PackageFileSize: 408.5 KiB