Package: ConsensusClusterPlus Version: 1.75.0 Maintainer: Matt Wilkerson MaintainerEmail: mdwilkerson at outlook.com git_url: https://git.bioconductor.org/packages/ConsensusClusterPlus git_branch: devel git_last_commit: 2632db7 git_last_commit_date: 2025-10-29 10:04:16 -0400 (Wed, 29 Oct 2025)