Package: BiocFileCache Version: 3.1.0 Command: /home/rapidbuild/bbs-3.22-bioc-rapid/R/bin/R CMD INSTALL BiocFileCache StartedAt: 2025-10-30 12:19:34 -0400 (Thu, 30 Oct 2025) EndedAt: 2025-10-30 12:19:39 -0400 (Thu, 30 Oct 2025) EllapsedTime: 5.4 seconds RetCode: 0 Status: OK