Package: BiocFileCache Version: 3.1.0 Command: /home/rapidbuild/bbs-3.22-bioc-rapid/R/bin/R CMD build --keep-empty-dirs --no-resave-data BiocFileCache StartedAt: 2025-10-30 12:27:28 -0400 (Thu, 30 Oct 2025) EndedAt: 2025-10-30 12:28:05 -0400 (Thu, 30 Oct 2025) EllapsedTime: 36.2 seconds RetCode: 1 Status: ERROR PackageFile: None PackageFileSize: NA