Package: BiocBaseUtils Version: 1.13.0 Command: /home/rapidbuild/bbs-3.22-bioc-rapid/R/bin/R CMD INSTALL BiocBaseUtils StartedAt: 2025-10-30 12:06:44 -0400 (Thu, 30 Oct 2025) EndedAt: 2025-10-30 12:06:46 -0400 (Thu, 30 Oct 2025) EllapsedTime: 2.0 seconds RetCode: 0 Status: OK