Package: xcms Version: 4.4.0 Command: F:\biocbuild\bbs-3.20-bioc\R\bin\R.exe CMD check --no-multiarch --test-dir=longtests --no-stop-on-test-error --no-codoc --no-examples --no-manual --ignore-vignettes --check-subdirs=no xcms_4.4.0.tar.gz StartedAt: 2025-01-25 16:20:55 -0500 (Sat, 25 Jan 2025) EndedAt: 2025-01-25 16:28:17 -0500 (Sat, 25 Jan 2025) EllapsedTime: 441.7 seconds RetCode: 1 Status: ERROR CheckDir: xcms.Rcheck Warnings: NA