Package: xcms Version: 4.6.0 Command: /Library/Frameworks/R.framework/Resources/bin/R CMD check --test-dir=longtests --no-stop-on-test-error --no-codoc --no-examples --no-manual --ignore-vignettes --check-subdirs=no xcms_4.6.0.tar.gz StartedAt: 2025-04-26 16:27:46 -0400 (Sat, 26 Apr 2025) EndedAt: 2025-04-26 16:27:51 -0400 (Sat, 26 Apr 2025) EllapsedTime: 4.5 seconds RetCode: 1 Status: ERROR CheckDir: xcms.Rcheck Warnings: NA