Package: rhdf5 Version: 2.52.0 Command: /Library/Frameworks/R.framework/Resources/bin/R CMD check --test-dir=longtests --no-stop-on-test-error --no-codoc --no-examples --no-manual --ignore-vignettes --check-subdirs=no rhdf5_2.52.0.tar.gz StartedAt: 2025-04-19 16:13:13 -0400 (Sat, 19 Apr 2025) EndedAt: 2025-04-19 16:14:30 -0400 (Sat, 19 Apr 2025) EllapsedTime: 77.2 seconds RetCode: 0 Status: OK CheckDir: rhdf5.Rcheck Warnings: 0