Package: midasHLA Version: 1.18.0 Maintainer: Maciej MigdaƂ MaintainerEmail: mcjmigdal at gmail.com git_url: https://git.bioconductor.org/packages/midasHLA git_branch: RELEASE_3_22 git_last_commit: ba6d0cb git_last_commit_date: 2025-10-29 11:06:38 -0500 (Wed, 29 Oct 2025)