Package: biodbNci Version: 1.12.0 Maintainer: Pierrick Roger MaintainerEmail: pierrick.roger at cea.fr git_url: https://git.bioconductor.org/packages/biodbNci git_branch: RELEASE_3_21 git_last_commit: a398ae4 git_last_commit_date: 2025-04-15 12:47:37 -0400 (Tue, 15 Apr 2025)