Package: biodbKegg Version: 1.12.0 Command: F:\biocbuild\bbs-3.20-bioc\R\bin\R.exe CMD check --no-multiarch --test-dir=longtests --no-stop-on-test-error --no-codoc --no-examples --no-manual --ignore-vignettes --check-subdirs=no biodbKegg_1.12.0.tar.gz StartedAt: 2025-02-15 16:04:07 -0500 (Sat, 15 Feb 2025) EndedAt: 2025-02-15 16:09:43 -0500 (Sat, 15 Feb 2025) EllapsedTime: 336.1 seconds RetCode: 1 Status: ERROR CheckDir: biodbKegg.Rcheck Warnings: NA