Package: biodbChebi Version: 1.14.0 Command: /Library/Frameworks/R.framework/Resources/bin/R CMD check --test-dir=longtests --no-stop-on-test-error --no-codoc --no-examples --no-manual --ignore-vignettes --check-subdirs=no biodbChebi_1.14.0.tar.gz StartedAt: 2025-05-03 16:01:27 -0400 (Sat, 03 May 2025) EndedAt: 2025-05-03 16:05:51 -0400 (Sat, 03 May 2025) EllapsedTime: 263.6 seconds RetCode: 0 Status: OK CheckDir: biodbChebi.Rcheck Warnings: 0