Back to Long Tests report for BioC 3.21

This page was generated on 2025-07-19 23:55 -0400 (Sat, 19 Jul 2025).

HostnameOSArch (*)R versionInstalled pkgs
nebbiolo1Linux (Ubuntu 24.04.2 LTS)x86_644.5.1 (2025-06-13) -- "Great Square Root" 4821
palomino7Windows Server 2022 Datacenterx644.5.1 (2025-06-13 ucrt) -- "Great Square Root" 4563
merida1macOS 12.7.5 Montereyx86_644.5.1 RC (2025-06-05 r88288) -- "Great Square Root" 4601
Click on any hostname to see more info about the system (e.g. compilers)      (*) as reported by 'uname -p', except on Windows and Mac OS X

All results for package basilisk


To the developers/maintainers of the basilisk package:
- Use the following Renviron settings to reproduce errors and warnings.
- If 'R CMD check' started to fail recently on the Linux builder(s) over a missing dependency, add the missing dependency to 'Suggests:' in your DESCRIPTION file. See Renviron.bioc for more information.

raw results

Package 3/30HostnameOS / ArchCHECK
basilisk 1.20.0  (landing page)
Aaron Lun
Snapshot Date: 2025-07-19 09:55 -0400 (Sat, 19 Jul 2025)
git_url: https://git.bioconductor.org/packages/basilisk
git_branch: RELEASE_3_21
git_last_commit: 072c38e
git_last_commit_date: 2025-04-15 11:54:33 -0400 (Tue, 15 Apr 2025)
nebbiolo1Linux (Ubuntu 24.04.2 LTS) / x86_64  OK  
palomino7Windows Server 2022 Datacenter / x64  OK  
merida1macOS 12.7.5 Monterey / x86_64  OK