Package: autonomics Version: 1.16.0 Maintainer: Aditya Bhagwat MaintainerEmail: aditya.bhagwat at uni-marburg.de git_url: https://git.bioconductor.org/packages/autonomics git_branch: RELEASE_3_21 git_last_commit: a47f4df git_last_commit_date: 2025-04-15 12:21:58 -0400 (Tue, 15 Apr 2025)