Package: MungeSumstats Version: 1.16.0 Command: /Library/Frameworks/R.framework/Resources/bin/R CMD check --test-dir=longtests --no-stop-on-test-error --no-codoc --no-examples --no-manual --ignore-vignettes --check-subdirs=no MungeSumstats_1.16.0.tar.gz StartedAt: 2025-04-19 16:12:33 -0400 (Sat, 19 Apr 2025) EndedAt: 2025-04-19 16:31:37 -0400 (Sat, 19 Apr 2025) EllapsedTime: 1144.2 seconds RetCode: 1 Status: ERROR CheckDir: MungeSumstats.Rcheck Warnings: NA