Package: DropletUtils Version: 1.26.0 Command: F:\biocbuild\bbs-3.20-bioc\R\bin\R.exe CMD check --no-multiarch --test-dir=longtests --no-stop-on-test-error --no-codoc --no-examples --no-manual --ignore-vignettes --check-subdirs=no DropletUtils_1.26.0.tar.gz StartedAt: 2025-01-25 16:09:09 -0500 (Sat, 25 Jan 2025) EndedAt: 2025-01-25 16:19:16 -0500 (Sat, 25 Jan 2025) EllapsedTime: 607.7 seconds RetCode: 0 Status: OK CheckDir: DropletUtils.Rcheck Warnings: 0