Package: scviR Version: 1.10.0 Command: /home/biocbuild/bbs-3.22-bioc-gpu/R/bin/R CMD INSTALL scviR StartedAt: 2025-11-02 01:45:12 -0400 (Sun, 02 Nov 2025) EndedAt: 2025-11-02 01:46:05 -0400 (Sun, 02 Nov 2025) EllapsedTime: 53.8 seconds RetCode: 0 Status: OK