Package: orthos Version: 1.8.0 Command: /home/biocbuild/bbs-3.22-bioc-gpu/R/bin/R CMD build --keep-empty-dirs --no-resave-data orthos StartedAt: 2025-11-02 01:49:26 -0400 (Sun, 02 Nov 2025) EndedAt: 2025-11-02 01:51:43 -0400 (Sun, 02 Nov 2025) EllapsedTime: 137.0 seconds RetCode: 0 Status: OK PackageFile: orthos_1.8.0.tar.gz PackageFileSize: 2.868 MiB