Package: RbowtieCuda Version: 1.0.10 Command: /home/biocbuild/bbs-3.21-bioc-gpu/R/bin/R CMD INSTALL RbowtieCuda StartedAt: 2025-10-13 04:45:16 -0400 (Mon, 13 Oct 2025) EndedAt: 2025-10-13 04:49:22 -0400 (Mon, 13 Oct 2025) EllapsedTime: 245.5 seconds RetCode: 0 Status: OK