Package: zitools Version: 1.0.0 Command: /home/biocbuild/R/R/bin/R CMD build --keep-empty-dirs --no-resave-data zitools StartedAt: 2025-01-31 03:32:00 -0000 (Fri, 31 Jan 2025) EndedAt: 2025-01-31 03:34:15 -0000 (Fri, 31 Jan 2025) EllapsedTime: 134.9 seconds RetCode: 0 Status: OK PackageFile: zitools_1.0.0.tar.gz PackageFileSize: 236.5 KiB